View In:
ArcGIS JavaScript
ArcGIS Online Map Viewer
ArcGIS Earth
ArcMap
View Footprint In:
ArcGIS Online Map Viewer
Service Description: Imagens/Paranavai_20cm_tif
Name: Imagens/Paranavai_20cm_tif
Description:
Single Fused Map Cache: false
Extent:
XMin: 344800.9871
YMin: 7441653.9133
XMax: 357474.7007
YMax: 7452689.8479
Spatial Reference: 31982
(31982)
Initial Extent:
XMin: 344800.9871
YMin: 7441653.9133
XMax: 357474.7007
YMax: 7452689.8479
Spatial Reference: 31982
(31982)
Full Extent:
XMin: 344800.9871
YMin: 7441653.9133
XMax: 357474.7007
YMax: 7452689.8479
Spatial Reference: 31982
(31982)
Pixel Size X: 0.19999863655730654
Pixel Size Y: 0.19999881478797155
Band Count: 3
Pixel Type: U8
RasterFunction Infos: {"rasterFunctionInfos": [{
"name": "None",
"description": "",
"help": ""
}]}
Mensuration Capabilities: Basic
Has Histograms: true
Has Colormap: false
Has Multi Dimensions : false
Rendering Rule:
Min Scale: 0
Max Scale: 0
Copyright Text:
Service Data Type: esriImageServiceDataTypeRGB
Min Values: 0, 0, 0
Max Values: 255, 255, 255
Mean Values: 180.84341773605, 184.42503539325, 161.96018831783
Standard Deviation Values: 69.249007903902, 62.96095363397, 80.720352460827
Object ID Field:
Fields:
None
Default Mosaic Method: Center
Allowed Mosaic Methods:
SortField:
SortValue: null
Mosaic Operator: First
Default Compression Quality: 75
Default Resampling Method: Bilinear
Max Record Count: null
Max Image Height: 4100
Max Image Width: 15000
Max Download Image Count: null
Max Mosaic Image Count: null
Allow Raster Function: true
Allow Copy: true
Allow Analysis: true
Allow Compute TiePoints: false
Supports Statistics: false
Supports Advanced Queries: false
Use StandardizedQueries: true
Raster Type Infos:
Name: Raster Dataset
Description: Suporte para Todos os Conjuntos de Dados Raster do ArcGIS
Help:
Has Raster Attribute Table: false
Edit Fields Info: null
Ownership Based AccessControl For Rasters: null
Child Resources:
Info
Histograms
Statistics
Key Properties
Legend
Raster Function Infos
Supported Operations:
Export Image
Identify
Measure
Compute Histograms
Compute Statistics Histograms
Get Samples
Compute Class Statistics
Query Boundary
Compute Pixel Location
Compute Angles
Validate
Project